BEGIN:VCALENDAR
VERSION:2.0
PRODID:-//BV Essen e.V. - ECPv6.15.20//NONSGML v1.0//EN
CALSCALE:GREGORIAN
METHOD:PUBLISH
X-WR-CALNAME:BV Essen e.V.
X-ORIGINAL-URL:https://bvessen.com
X-WR-CALDESC:Veranstaltungen für BV Essen e.V.
REFRESH-INTERVAL;VALUE=DURATION:PT1H
X-Robots-Tag:noindex
X-PUBLISHED-TTL:PT1H
BEGIN:VTIMEZONE
TZID:Europe/Berlin
BEGIN:DAYLIGHT
TZOFFSETFROM:+0100
TZOFFSETTO:+0200
TZNAME:CEST
DTSTART:20240331T010000
END:DAYLIGHT
BEGIN:STANDARD
TZOFFSETFROM:+0200
TZOFFSETTO:+0100
TZNAME:CET
DTSTART:20241027T010000
END:STANDARD
BEGIN:DAYLIGHT
TZOFFSETFROM:+0100
TZOFFSETTO:+0200
TZNAME:CEST
DTSTART:20250330T010000
END:DAYLIGHT
BEGIN:STANDARD
TZOFFSETFROM:+0200
TZOFFSETTO:+0100
TZNAME:CET
DTSTART:20251026T010000
END:STANDARD
BEGIN:DAYLIGHT
TZOFFSETFROM:+0100
TZOFFSETTO:+0200
TZNAME:CEST
DTSTART:20260329T010000
END:DAYLIGHT
BEGIN:STANDARD
TZOFFSETFROM:+0200
TZOFFSETTO:+0100
TZNAME:CET
DTSTART:20261025T010000
END:STANDARD
END:VTIMEZONE
BEGIN:VEVENT
DTSTART;TZID=Europe/Berlin:20250824T110000
DTEND;TZID=Europe/Berlin:20250824T180000
DTSTAMP:20260421T132321
CREATED:20250524T144435Z
LAST-MODIFIED:20250818T100338Z
UID:3985-1756033200-1756058400@bvessen.com
SUMMARY:Gemeindefest
DESCRIPTION:Auf dem Gemeindefest findest Du uns auch mit einem Stand. Komm vorbei und informiere Dich über den Sportverein in Deiner Gemeinde. Werde ein Teil von WIR. \nDu findest uns bei Standnummer 16 hinterm Rathaus\, gegenüber vom Bildungswerk Essen e.V.
URL:https://bvessen.com/event/gemeindefest/
END:VEVENT
END:VCALENDAR